BEGIN:VCALENDAR
PRODID:-//http://statistik.d-u-v.org//PHP ultracalendar//EN
VERSION:2.0
METHOD:PUBLISH
BEGIN:VEVENT
DTSTAMP:20260419T210225
CREATED:20190426T100044
UID:1776632545.0.57953900-57072@statistik.d-u-v.org
SUMMARY:Rivers Edge Ultra - The Muskeg
DESCRIPTION: Rivers Edge Ultra - The Muskeg\n
  \n
  
DTSTART:20190921T000000
DTEND:00000000T235900
LOCATION:Devon, AB\, CAN
URL:http://riversedgeultra.com/
CATEGORIES:Ultramarathon
CONTACT:
CLASS:PUBLIC
PRIORITY:5
TRANSP:OPAQUE
END:VEVENT
END:VCALENDAR
