BEGIN:VCALENDAR
PRODID:-//http://statistik.d-u-v.org//PHP ultracalendar//EN
VERSION:2.0
METHOD:PUBLISH
BEGIN:VEVENT
DTSTAMP:20260419T220840
CREATED:20190424T163219
UID:1776636520.0.16266700-57020@statistik.d-u-v.org
SUMMARY:Mount Umunhum Trail Run
DESCRIPTION: Mount Umunhum Trail Run\n
  Race Director John Brooks\n
  runpctr[at]gmail.com
DTSTART:20190223T070000
DTEND:00000000T235900
LOCATION:San Jose, CA\, USA
URL:http://www.pctrailruns.com/event.aspx?dtid=13001
CATEGORIES:Ultramarathon
CONTACT:Race Director John Brooks
CLASS:PUBLIC
PRIORITY:5
TRANSP:OPAQUE
END:VEVENT
END:VCALENDAR
