BEGIN:VCALENDAR
PRODID:-//http://statistik.d-u-v.org//PHP ultracalendar//EN
VERSION:2.0
METHOD:PUBLISH
BEGIN:VEVENT
DTSTAMP:20260422T051331
CREATED:20190423T163931
UID:1776834811.0.33507400-56986@statistik.d-u-v.org
SUMMARY:Krukes Backyard Ultra-Trail Challenge
DESCRIPTION: Krukes Backyard Ultra-Trail Challenge\n
  Torgeir Kruke\n
  
DTSTART:20191019T100000
DTEND:00000000T235900
LOCATION:Saksvik\, NOR
URL:https://www.krultra.no
CATEGORIES:Ultramarathon
CONTACT:Torgeir Kruke
CLASS:PUBLIC
PRIORITY:5
TRANSP:OPAQUE
END:VEVENT
END:VCALENDAR
