BEGIN:VCALENDAR
PRODID:-//http://statistik.d-u-v.org//PHP ultracalendar//EN
VERSION:2.0
METHOD:PUBLISH
BEGIN:VEVENT
DTSTAMP:20260425T173807
CREATED:20190423T082740
UID:1777138687.0.18636800-56946@statistik.d-u-v.org
SUMMARY:Budda 108K Ultramarathon
DESCRIPTION: Budda 108K Ultramarathon\n
  Jung, Hae Sun\n
  hsjung1959[at]hanmail.net
DTSTART:20190420T170000
DTEND:20190421T100000
LOCATION:Seoul\, KOR
URL:http://www.108ultra.co.kr/
CATEGORIES:Ultramarathon
CONTACT:Jung, Hae Sun
CLASS:PUBLIC
PRIORITY:5
TRANSP:OPAQUE
END:VEVENT
END:VCALENDAR
