BEGIN:VCALENDAR
PRODID:-//http://statistik.d-u-v.org//PHP ultracalendar//EN
VERSION:2.0
METHOD:PUBLISH
BEGIN:VEVENT
DTSTAMP:20260419T192613
CREATED:20190417T090336
UID:1776626773.0.31297800-56657@statistik.d-u-v.org
SUMMARY:Conociendo a la Pacha Mama (UTCPM) 160km
DESCRIPTION: Conociendo a la Pacha Mama (UTCPM) 160km\n
  \n
  info[at]ecoatletas.com
DTSTART:20241011T050000
DTEND:20241013T070000
LOCATION:Tilcara, Jujuy\, ARG
URL:http://www.ecoatletas.com
CATEGORIES:Ultramarathon
CONTACT:
CLASS:PUBLIC
PRIORITY:5
TRANSP:OPAQUE
END:VEVENT
END:VCALENDAR
