BEGIN:VCALENDAR
PRODID:-//http://statistik.d-u-v.org//PHP ultracalendar//EN
VERSION:2.0
METHOD:PUBLISH
BEGIN:VEVENT
DTSTAMP:20260426T004826
CREATED:20190415T181804
UID:1777164506.0.84121500-56621@statistik.d-u-v.org
SUMMARY:Phoenix Ridge Winter Trail Challenge
DESCRIPTION: Phoenix Ridge Winter Trail Challenge\n
  \n
  
DTSTART:20190119T080000
DTEND:00000000T235900
LOCATION:Beijing City\, CHN
URL:http://zuicool.com/event/889/results/5169979
CATEGORIES:Ultramarathon
CONTACT:
CLASS:PUBLIC
PRIORITY:5
TRANSP:OPAQUE
END:VEVENT
END:VCALENDAR
