BEGIN:VCALENDAR
PRODID:-//http://statistik.d-u-v.org//PHP ultracalendar//EN
VERSION:2.0
METHOD:PUBLISH
BEGIN:VEVENT
DTSTAMP:20260419T223211
CREATED:20190415T132255
UID:1776637931.0.51487300-56597@statistik.d-u-v.org
SUMMARY:Six Hour Snake Run
DESCRIPTION: Six Hour Snake Run\n
  \n
  info[at]landshark.info
DTSTART:20190324T000000
DTEND:00000000T235900
LOCATION:Tulsa, OK\, USA
URL:https://www.snake.run/
CATEGORIES:Ultramarathon
CONTACT:
CLASS:PUBLIC
PRIORITY:5
TRANSP:OPAQUE
END:VEVENT
END:VCALENDAR
