BEGIN:VCALENDAR
PRODID:-//http://statistik.d-u-v.org//PHP ultracalendar//EN
VERSION:2.0
METHOD:PUBLISH
BEGIN:VEVENT
DTSTAMP:20260426T041730
CREATED:20190413T111539
UID:1777177050.0.94160500-56543@statistik.d-u-v.org
SUMMARY:Winter Trail Monte Prealba
DESCRIPTION: Winter Trail Monte Prealba\n
  Ivan freddi\n
  ivan[at]bionetrailersteam.it
DTSTART:20200112T060000
DTEND:00000000T235900
LOCATION:Bione Pieve (BS)\, ITA
URL:http://www.biontrailersteam.it
CATEGORIES:Ultramarathon
CONTACT:Ivan freddi
CLASS:PUBLIC
PRIORITY:5
TRANSP:OPAQUE
END:VEVENT
END:VCALENDAR
