BEGIN:VCALENDAR
PRODID:-//http://statistik.d-u-v.org//PHP ultracalendar//EN
VERSION:2.0
METHOD:PUBLISH
BEGIN:VEVENT
DTSTAMP:20260422T135524
CREATED:20190405T155511
UID:1776866124.0.86280100-56446@statistik.d-u-v.org
SUMMARY:Backyard Stavanger
DESCRIPTION: Backyard Stavanger\n
  Daniel Gallaher\n
  cdgallaher[at]live.com
DTSTART:20191012T100000
DTEND:00000000T235900
LOCATION:Stavanger\, NOR
URL:https://www.backyardultra.no/info-stavanger
CATEGORIES:Ultramarathon
CONTACT:Daniel Gallaher
CLASS:PUBLIC
PRIORITY:5
TRANSP:OPAQUE
END:VEVENT
END:VCALENDAR
