BEGIN:VCALENDAR
PRODID:-//http://statistik.d-u-v.org//PHP ultracalendar//EN
VERSION:2.0
METHOD:PUBLISH
BEGIN:VEVENT
DTSTAMP:20260425T175735
CREATED:20190327T144258
UID:1777139855.0.23013400-56337@statistik.d-u-v.org
SUMMARY:Nanjing Jiangning 12h Super Marathon
DESCRIPTION: Nanjing Jiangning 12h Super Marathon\n
  \n
  
DTSTART:20181201T120000
DTEND:00000000T235900
LOCATION:Nanjing City\, CHN
URL:http://tiyu.baidu.com/news/detail/dbbd7032e168a20436e03a506490fb49
CATEGORIES:Ultramarathon
CONTACT:
CLASS:PUBLIC
PRIORITY:5
TRANSP:OPAQUE
END:VEVENT
END:VCALENDAR
