BEGIN:VCALENDAR
PRODID:-//http://statistik.d-u-v.org//PHP ultracalendar//EN
VERSION:2.0
METHOD:PUBLISH
BEGIN:VEVENT
DTSTAMP:20260419T192118
CREATED:20190315T113809
UID:1776626478.0.23887400-56176@statistik.d-u-v.org
SUMMARY:Shawnee Hills 100 - 100 Mile
DESCRIPTION: Shawnee Hills 100 - 100 Mile\n
  \n
  
DTSTART:20190824T000000
DTEND:20190825T235900
LOCATION:Ozark, IL\, USA
URL:http://shawneehills100.weebly.com/
CATEGORIES:Ultramarathon
CONTACT:
CLASS:PUBLIC
PRIORITY:5
TRANSP:OPAQUE
END:VEVENT
END:VCALENDAR
