BEGIN:VCALENDAR
PRODID:-//http://statistik.d-u-v.org//PHP ultracalendar//EN
VERSION:2.0
METHOD:PUBLISH
BEGIN:VEVENT
DTSTAMP:20260419T192238
CREATED:20190314T165229
UID:1776626558.0.77070200-56130@statistik.d-u-v.org
SUMMARY:Holiday 50k Series - Day 12
DESCRIPTION: Holiday 50k Series - Day 12\n
  \n
  hanne[at]deadrunning.net
DTSTART:20190106T060000
DTEND:00000000T235900
LOCATION:Las Cruces, NM\, USA
URL:https://www.deadrunning.net/holiday-series/
CATEGORIES:Ultramarathon
CONTACT:
CLASS:PUBLIC
PRIORITY:5
TRANSP:OPAQUE
END:VEVENT
END:VCALENDAR
