BEGIN:VCALENDAR
PRODID:-//http://statistik.d-u-v.org//PHP ultracalendar//EN
VERSION:2.0
METHOD:PUBLISH
BEGIN:VEVENT
DTSTAMP:20260419T192318
CREATED:20190314T164232
UID:1776626598.0.57155700-56119@statistik.d-u-v.org
SUMMARY:Holiday 50k Series - Day 2
DESCRIPTION: Holiday 50k Series - Day 2\n
  \n
  hanne[at]deadrunning.net
DTSTART:20181227T060000
DTEND:00000000T235900
LOCATION:Las Cruces, NM\, USA
URL:https://www.deadrunning.net/holiday-series/
CATEGORIES:Ultramarathon
CONTACT:
CLASS:PUBLIC
PRIORITY:5
TRANSP:OPAQUE
END:VEVENT
END:VCALENDAR
