BEGIN:VCALENDAR
PRODID:-//http://statistik.d-u-v.org//PHP ultracalendar//EN
VERSION:2.0
METHOD:PUBLISH
BEGIN:VEVENT
DTSTAMP:20260424T163024
CREATED:20190312T105848
UID:1777048224.0.26449900-55998@statistik.d-u-v.org
SUMMARY:Sao Paulo Ultra Trail
DESCRIPTION: Sao Paulo Ultra Trail\n
  \n
  sp[at]indomit.com.br
DTSTART:20150530T000000
DTEND:00000000T235900
LOCATION:Sao Bento do Sapucai\, BRA
URL:http://bombinhasrunners.com.br/saobento/
CATEGORIES:Ultramarathon
CONTACT:
CLASS:PUBLIC
PRIORITY:5
TRANSP:OPAQUE
END:VEVENT
END:VCALENDAR
