BEGIN:VCALENDAR
PRODID:-//http://statistik.d-u-v.org//PHP ultracalendar//EN
VERSION:2.0
METHOD:PUBLISH
BEGIN:VEVENT
DTSTAMP:20260424T155245
CREATED:20190311T164119
UID:1777045965.0.56040000-55989@statistik.d-u-v.org
SUMMARY:24 hs Int. de Puerto Madryn
DESCRIPTION: 24 hs Int. de Puerto Madryn\n
  \n
  info[at]correporloschicos.com.ar
DTSTART:20190302T110000
DTEND:20190303T110000
LOCATION:Puerto Madryn\, ARG
URL:https://www.evensi.com/6-ultramaraton-solidaria-puerto-madryn-chubut-12-24-hs/294777997
CATEGORIES:Ultramarathon
CONTACT:
CLASS:PUBLIC
PRIORITY:5
TRANSP:OPAQUE
END:VEVENT
END:VCALENDAR
