BEGIN:VCALENDAR
PRODID:-//http://statistik.d-u-v.org//PHP ultracalendar//EN
VERSION:2.0
METHOD:PUBLISH
BEGIN:VEVENT
DTSTAMP:20260424T121817
CREATED:20190311T095208
UID:1777033097.0.18039000-55961@statistik.d-u-v.org
SUMMARY:Tollymore Trail Ultra Marathon 
DESCRIPTION: Tollymore Trail Ultra Marathon \n
  \n
  info[at]26extreme.com
DTSTART:20191116T080000
DTEND:00000000T235900
LOCATION:Newcastle\, GBR
URL:https://www.26extreme.com/event/tollymore-trail-marathon-events/
CATEGORIES:Ultramarathon
CONTACT:
CLASS:PUBLIC
PRIORITY:5
TRANSP:OPAQUE
END:VEVENT
END:VCALENDAR
