BEGIN:VCALENDAR
PRODID:-//http://statistik.d-u-v.org//PHP ultracalendar//EN
VERSION:2.0
METHOD:PUBLISH
BEGIN:VEVENT
DTSTAMP:20260423T033727
CREATED:20190308T120454
UID:1776915447.0.06539800-55926@statistik.d-u-v.org
SUMMARY:Happy Chinese New Year 50 Mile Race
DESCRIPTION: Happy Chinese New Year 50 Mile Race\n
  \n
  
DTSTART:20200208T000000
DTEND:00000000T235900
LOCATION:San Diego, CA\, USA
URL:https://www.facebook.com/bosd100/
CATEGORIES:Ultramarathon
CONTACT:
CLASS:PUBLIC
PRIORITY:5
TRANSP:OPAQUE
END:VEVENT
END:VCALENDAR
