BEGIN:VCALENDAR
PRODID:-//http://statistik.d-u-v.org//PHP ultracalendar//EN
VERSION:2.0
METHOD:PUBLISH
BEGIN:VEVENT
DTSTAMP:20260423T012258
CREATED:20190308T104242
UID:1776907378.0.25027200-55920@statistik.d-u-v.org
SUMMARY:Conquer the Canuck Marathon Ultra Trail Weekend
DESCRIPTION: Conquer the Canuck Marathon Ultra Trail Weekend\n
  Tony Martin\n
  conquerthecanuck[at]gmail.com
DTSTART:20190608T090000
DTEND:20190609T235900
LOCATION:Cambridge, ON\, CAN
URL:http://www.conquerthecanuck.ca
CATEGORIES:Ultramarathon
CONTACT:Tony Martin
CLASS:PUBLIC
PRIORITY:5
TRANSP:OPAQUE
END:VEVENT
END:VCALENDAR
