BEGIN:VCALENDAR
PRODID:-//http://statistik.d-u-v.org//PHP ultracalendar//EN
VERSION:2.0
METHOD:PUBLISH
BEGIN:VEVENT
DTSTAMP:20260419T192409
CREATED:20190307T123100
UID:1776626649.0.41909000-55900@statistik.d-u-v.org
SUMMARY:The Coastal Challenge - Adventure Run
DESCRIPTION: The Coastal Challenge - Adventure Run\n
  Tim Holmstrom\n
  info[at]thecoastalchallenge.com
DTSTART:20200209T000000
DTEND:20200214T235900
LOCATION:San Jose\, CRC
URL:http://thecoastalchallengecostarica.com/
CATEGORIES:Ultramarathon
CONTACT:Tim Holmstrom
CLASS:PUBLIC
PRIORITY:5
TRANSP:OPAQUE
END:VEVENT
END:VCALENDAR
