BEGIN:VCALENDAR
PRODID:-//http://statistik.d-u-v.org//PHP ultracalendar//EN
VERSION:2.0
METHOD:PUBLISH
BEGIN:VEVENT
DTSTAMP:20260423T080602
CREATED:20190307T104719
UID:1776931562.0.54499300-55883@statistik.d-u-v.org
SUMMARY:Bigfoot 50K Trail Race
DESCRIPTION: Bigfoot 50K Trail Race\n
  \n
  
DTSTART:20181208T000000
DTEND:00000000T235900
LOCATION:Lore City, OH\, USA
URL:https://www.westernreserveracing.com/events/bigfoot-50k-and-10-miler/
CATEGORIES:Ultramarathon
CONTACT:
CLASS:PUBLIC
PRIORITY:5
TRANSP:OPAQUE
END:VEVENT
END:VCALENDAR
