BEGIN:VCALENDAR
PRODID:-//http://statistik.d-u-v.org//PHP ultracalendar//EN
VERSION:2.0
METHOD:PUBLISH
BEGIN:VEVENT
DTSTAMP:20260423T022713
CREATED:20180911T135433
UID:1776911233.0.56289600-55766@statistik.d-u-v.org
SUMMARY:Endurance 24 h Ultrarun Espoo - 100km Split
DESCRIPTION: Endurance 24 h Ultrarun Espoo - 100km Split\n
  Arto Ahola\n
  arto[at]endurance.fi
DTSTART:20190223T120000
DTEND:20190224T120000
LOCATION:Tapiola, Espoo\, FIN
URL:http://endurance.fi/e24
CATEGORIES:Ultramarathon
CONTACT:Arto Ahola
CLASS:PUBLIC
PRIORITY:5
TRANSP:OPAQUE
END:VEVENT
END:VCALENDAR
