BEGIN:VCALENDAR
PRODID:-//http://statistik.d-u-v.org//PHP ultracalendar//EN
VERSION:2.0
METHOD:PUBLISH
BEGIN:VEVENT
DTSTAMP:20260423T055245
CREATED:20190302T180829
UID:1776923565.0.75005100-55746@statistik.d-u-v.org
SUMMARY:Delirium Ultra 24 Hour Run
DESCRIPTION: Delirium Ultra 24 Hour Run\n
  Tim Waz\n
  tim[at]groundedrunning.com
DTSTART:20191130T090000
DTEND:20191201T090000
LOCATION:Beaufort, SC\, USA
URL:http://groundedrunning.com/lowcountry-ultras/
CATEGORIES:Ultramarathon
CONTACT:Tim Waz
CLASS:PUBLIC
PRIORITY:5
TRANSP:OPAQUE
END:VEVENT
END:VCALENDAR
