BEGIN:VCALENDAR
PRODID:-//http://statistik.d-u-v.org//PHP ultracalendar//EN
VERSION:2.0
METHOD:PUBLISH
BEGIN:VEVENT
DTSTAMP:20260425T235543
CREATED:20190223T121301
UID:1777161343.0.39531500-55525@statistik.d-u-v.org
SUMMARY:Taipei 24hr Ultra Marathon - 50mi Split
DESCRIPTION: Taipei 24hr Ultra Marathon - 50mi Split\n
  Frank Kuo, Race director\n
  frank.kuo.run[at]gmail.com
DTSTART:20190216T140000
DTEND:20190217T140000
LOCATION:Taipei City\, TPE
URL:https://docs.google.com/document/d/1CKZu8tL5Ydt-0NQLBdzlUvMnht-A8729esSN5IwA-3E/edit#
CATEGORIES:Ultramarathon
CONTACT:Frank Kuo, Race director
CLASS:PUBLIC
PRIORITY:5
TRANSP:OPAQUE
END:VEVENT
END:VCALENDAR
