BEGIN:VCALENDAR
PRODID:-//http://statistik.d-u-v.org//PHP ultracalendar//EN
VERSION:2.0
METHOD:PUBLISH
BEGIN:VEVENT
DTSTAMP:20260423T020325
CREATED:20190219T170943
UID:1776909805.0.08984200-55414@statistik.d-u-v.org
SUMMARY:Deadman Peaks Trail Run
DESCRIPTION: Deadman Peaks Trail Run\n
  Kim King\n
  kingyogadesign[at]gmail.com
DTSTART:20181103T000000
DTEND:00000000T235900
LOCATION:Cuba, NM\, USA
URL:https://deadmanpeakstrailrun.wordpress.com/
CATEGORIES:Ultramarathon
CONTACT:Kim King
CLASS:PUBLIC
PRIORITY:5
TRANSP:OPAQUE
END:VEVENT
END:VCALENDAR
