BEGIN:VCALENDAR
PRODID:-//http://statistik.d-u-v.org//PHP ultracalendar//EN
VERSION:2.0
METHOD:PUBLISH
BEGIN:VEVENT
DTSTAMP:20260425T220144
CREATED:20190216T143038
UID:1777154504.0.28310000-55348@statistik.d-u-v.org
SUMMARY:Craze Ultra 101 km
DESCRIPTION: Craze Ultra 101 km\n
  Ben Swee\n
  info[at]runningguild.com
DTSTART:20191012T070000
DTEND:20191013T070000
LOCATION:Singapore\, SGP
URL:http://crazeultra.blogspot.com/
CATEGORIES:Ultramarathon
CONTACT:Ben Swee
CLASS:PUBLIC
PRIORITY:5
TRANSP:OPAQUE
END:VEVENT
END:VCALENDAR
