BEGIN:VCALENDAR
PRODID:-//http://statistik.d-u-v.org//PHP ultracalendar//EN
VERSION:2.0
METHOD:PUBLISH
BEGIN:VEVENT
DTSTAMP:20260422T222533
CREATED:20190214T140545
UID:1776896733.0.21544000-55329@statistik.d-u-v.org
SUMMARY:Patapsco Valley 50K
DESCRIPTION: Patapsco Valley 50K\n
  Race Directors Ryan Foster and Mario Raymond\n
  patapsco50k[at]gmail.com
DTSTART:20191026T000000
DTEND:00000000T235900
LOCATION:Baltimore, MD\, USA
URL:http://patapsco50k.com/
CATEGORIES:Ultramarathon
CONTACT:Race Directors Ryan Foster and Mario Raymond
CLASS:PUBLIC
PRIORITY:5
TRANSP:OPAQUE
END:VEVENT
END:VCALENDAR
