BEGIN:VCALENDAR
PRODID:-//http://statistik.d-u-v.org//PHP ultracalendar//EN
VERSION:2.0
METHOD:PUBLISH
BEGIN:VEVENT
DTSTAMP:20260423T020552
CREATED:20190213T172720
UID:1776909952.0.34418900-55315@statistik.d-u-v.org
SUMMARY:Sage Burner Trail Run
DESCRIPTION: Sage Burner Trail Run\n
  \n
  
DTSTART:20181027T000000
DTEND:00000000T235900
LOCATION:Gunnison, CO\, USA
URL:http://sageburnertrailrun.com/
CATEGORIES:Ultramarathon
CONTACT:
CLASS:PUBLIC
PRIORITY:5
TRANSP:OPAQUE
END:VEVENT
END:VCALENDAR
