BEGIN:VCALENDAR
PRODID:-//http://statistik.d-u-v.org//PHP ultracalendar//EN
VERSION:2.0
METHOD:PUBLISH
BEGIN:VEVENT
DTSTAMP:20260419T185817
CREATED:20190213T123316
UID:1776625097.0.38196100-55298@statistik.d-u-v.org
SUMMARY:Insane TTRA Morungaba 3º Stage
DESCRIPTION: Insane TTRA Morungaba 3º Stage\n
  \n
  insanettra[at]gmail.com
DTSTART:20190824T050000
DTEND:00000000T235900
LOCATION:Morungaba, SP\, BRA
URL:https://z-m-www.facebook.com/events/2029686943827784/
CATEGORIES:Ultramarathon
CONTACT:
CLASS:PUBLIC
PRIORITY:5
TRANSP:OPAQUE
END:VEVENT
END:VCALENDAR
