BEGIN:VCALENDAR
PRODID:-//http://statistik.d-u-v.org//PHP ultracalendar//EN
VERSION:2.0
METHOD:PUBLISH
BEGIN:VEVENT
DTSTAMP:20260423T035908
CREATED:20091129T183103
UID:1776916748.0.71347500-5519@statistik.d-u-v.org
SUMMARY:Sri Chinmoy 100km Track Race
DESCRIPTION: Sri Chinmoy 100km Track Race\n
  \n
  
DTSTART:19900930T000000
DTEND:00000000T235900
LOCATION:Sydney, NSW\, AUS
URL:
CATEGORIES:Ultramarathon
CONTACT:
CLASS:PUBLIC
PRIORITY:5
TRANSP:OPAQUE
END:VEVENT
END:VCALENDAR
