BEGIN:VCALENDAR
PRODID:-//http://statistik.d-u-v.org//PHP ultracalendar//EN
VERSION:2.0
METHOD:PUBLISH
BEGIN:VEVENT
DTSTAMP:20260419T233211
CREATED:20190209T105046
UID:1776641531.0.00101200-55189@statistik.d-u-v.org
SUMMARY:St. Pats 24 Hour Races
DESCRIPTION: St. Pats 24 Hour Races\n
  \n
  
DTSTART:20181020T080000
DTEND:20181021T235900
LOCATION:South Bend, IN\, USA
URL:http://www.stpats24hour.com/
CATEGORIES:Ultramarathon
CONTACT:
CLASS:PUBLIC
PRIORITY:5
TRANSP:OPAQUE
END:VEVENT
END:VCALENDAR
