BEGIN:VCALENDAR
PRODID:-//http://statistik.d-u-v.org//PHP ultracalendar//EN
VERSION:2.0
METHOD:PUBLISH
BEGIN:VEVENT
DTSTAMP:20260424T141749
CREATED:20190208T141834
UID:1777040269.0.35210900-55155@statistik.d-u-v.org
SUMMARY:GSR Tuffman Goa Beach Darling Ultra 50
DESCRIPTION: GSR Tuffman Goa Beach Darling Ultra 50\n
  Sanjay Mangla, Arun Bhardwaj\n
  getsetrundelhi[at]gmail.com
DTSTART:20181117T070000
DTEND:00000000T235900
LOCATION:Margao, Goa\, IND
URL:https://www.accur8timing.com/results/tuffman-ultra-goa-race-results/?race=race_4f62b6e1-62aa-45ae-8737-036ad1bc1a45
CATEGORIES:Ultramarathon
CONTACT:Sanjay Mangla, Arun Bhardwaj
CLASS:PUBLIC
PRIORITY:5
TRANSP:OPAQUE
END:VEVENT
END:VCALENDAR
