BEGIN:VCALENDAR
PRODID:-//http://statistik.d-u-v.org//PHP ultracalendar//EN
VERSION:2.0
METHOD:PUBLISH
BEGIN:VEVENT
DTSTAMP:20260419T223143
CREATED:20190206T092111
UID:1776637903.0.41280400-55087@statistik.d-u-v.org
SUMMARY:Naventura Ultra Trail Garopaba
DESCRIPTION: Naventura Ultra Trail Garopaba\n
  \n
  naventura[at]naventura.com.br
DTSTART:20190803T000000
DTEND:00000000T235900
LOCATION:Garopaba, SC\, BRA
URL:https://www.naventura.com.br/
CATEGORIES:Ultramarathon
CONTACT:
CLASS:PUBLIC
PRIORITY:5
TRANSP:OPAQUE
END:VEVENT
END:VCALENDAR
