BEGIN:VCALENDAR
PRODID:-//http://statistik.d-u-v.org//PHP ultracalendar//EN
VERSION:2.0
METHOD:PUBLISH
BEGIN:VEVENT
DTSTAMP:20260421T133334
CREATED:20190201T075231
UID:1776778414.0.99352500-54913@statistik.d-u-v.org
SUMMARY:Lon Las Cymru Ultra
DESCRIPTION: Lon Las Cymru Ultra\n
  Mark Cockbain\n
  cockbainevents[at]outlook.com
DTSTART:20191017T070000
DTEND:20191020T235900
LOCATION:Holyhead\, GBR
URL:http://www.lonlasultra.com
CATEGORIES:Ultramarathon
CONTACT:Mark Cockbain
CLASS:PUBLIC
PRIORITY:5
TRANSP:OPAQUE
END:VEVENT
END:VCALENDAR
