BEGIN:VCALENDAR
PRODID:-//http://statistik.d-u-v.org//PHP ultracalendar//EN
VERSION:2.0
METHOD:PUBLISH
BEGIN:VEVENT
DTSTAMP:20260422T231334
CREATED:20190131T105829
UID:1776899614.0.14385700-54870@statistik.d-u-v.org
SUMMARY:Gnarly Bear Endurance Run
DESCRIPTION: Gnarly Bear Endurance Run\n
  \n
  grayaugustus[at]gmail.com
DTSTART:20190928T083000
DTEND:00000000T235900
LOCATION:Ririe, ID\, USA
URL:https://www.facebook.com/gnarlybear/
CATEGORIES:Ultramarathon
CONTACT:
CLASS:PUBLIC
PRIORITY:5
TRANSP:OPAQUE
END:VEVENT
END:VCALENDAR
