BEGIN:VCALENDAR
PRODID:-//http://statistik.d-u-v.org//PHP ultracalendar//EN
VERSION:2.0
METHOD:PUBLISH
BEGIN:VEVENT
DTSTAMP:20260423T080549
CREATED:20190130T172607
UID:1776931549.0.52260200-54837@statistik.d-u-v.org
SUMMARY:Feral Hog 50K
DESCRIPTION: Feral Hog 50K\n
  Race Director Mary Vincent\n
  mary[at]feraladventures.com
DTSTART:20181013T073000
DTEND:00000000T235900
LOCATION:Batavia, OH\, USA
URL:http://www.feraladventures.com/feral-hog-50k/
CATEGORIES:Ultramarathon
CONTACT:Race Director Mary Vincent
CLASS:PUBLIC
PRIORITY:5
TRANSP:OPAQUE
END:VEVENT
END:VCALENDAR
