BEGIN:VCALENDAR
PRODID:-//http://statistik.d-u-v.org//PHP ultracalendar//EN
VERSION:2.0
METHOD:PUBLISH
BEGIN:VEVENT
DTSTAMP:20260422T172118
CREATED:20190120T211644
UID:1776878478.0.58237600-54632@statistik.d-u-v.org
SUMMARY:Ultra Mirage El Djerid (UMED)
DESCRIPTION: Ultra Mirage El Djerid (UMED)\n
  Amir Ben Gacem (Race Director)\n
  amirbengacem[at]yahoo.co.uk
DTSTART:20190928T070000
DTEND:20190929T030000
LOCATION:Tozeur, Djerid\, TUN
URL:https://www.ultramirage.com/
CATEGORIES:Ultramarathon
CONTACT:Amir Ben Gacem (Race Director)
CLASS:PUBLIC
PRIORITY:5
TRANSP:OPAQUE
END:VEVENT
END:VCALENDAR
