BEGIN:VCALENDAR
PRODID:-//http://statistik.d-u-v.org//PHP ultracalendar//EN
VERSION:2.0
METHOD:PUBLISH
BEGIN:VEVENT
DTSTAMP:20260423T041114
CREATED:20200827T112206
UID:1776917474.0.17257100-54302@statistik.d-u-v.org
SUMMARY:EcoTrail Putrajaya - 50 km
DESCRIPTION: EcoTrail Putrajaya - 50 km\n
  \n
  
DTSTART:20201018T050000
DTEND:00000000T235900
LOCATION:Putrajaya\, MAS
URL:https://putrajaya.ecotrail.com/
CATEGORIES:Ultramarathon
CONTACT:
CLASS:PUBLIC
PRIORITY:5
TRANSP:OPAQUE
END:VEVENT
END:VCALENDAR
