BEGIN:VCALENDAR
PRODID:-//http://statistik.d-u-v.org//PHP ultracalendar//EN
VERSION:2.0
METHOD:PUBLISH
BEGIN:VEVENT
DTSTAMP:20260423T020023
CREATED:20190104T084841
UID:1776909623.0.03187800-54237@statistik.d-u-v.org
SUMMARY:Tamworth Trail Blazer
DESCRIPTION: Tamworth Trail Blazer\n
  Warren Ansell\n
  wazzared[at]bigpond.com.au
DTSTART:20190407T000000
DTEND:00000000T235900
LOCATION:Tamworth, NSW\, AUS
URL:https://tamworthtrailblazer.com/
CATEGORIES:Ultramarathon
CONTACT:Warren Ansell
CLASS:PUBLIC
PRIORITY:5
TRANSP:OPAQUE
END:VEVENT
END:VCALENDAR
