BEGIN:VCALENDAR
PRODID:-//http://statistik.d-u-v.org//PHP ultracalendar//EN
VERSION:2.0
METHOD:PUBLISH
BEGIN:VEVENT
DTSTAMP:20260421T133336
CREATED:20190102T150923
UID:1776778416.0.99390300-54209@statistik.d-u-v.org
SUMMARY:Firelighter 36 Mile Coastal Ultra Marathon
DESCRIPTION: Firelighter 36 Mile Coastal Ultra Marathon\n
  James Bingham\n
  team[at]ringofire.co.uk
DTSTART:20190830T130000
DTEND:20190830T230000
LOCATION:Holyhead\, GBR
URL:http://www.ringofire.co.uk/
CATEGORIES:Ultramarathon
CONTACT:James Bingham
CLASS:PUBLIC
PRIORITY:5
TRANSP:OPAQUE
END:VEVENT
END:VCALENDAR
