BEGIN:VCALENDAR
PRODID:-//http://statistik.d-u-v.org//PHP ultracalendar//EN
VERSION:2.0
METHOD:PUBLISH
BEGIN:VEVENT
DTSTAMP:20260422T202712
CREATED:20190102T125747
UID:1776889632.0.20262600-54198@statistik.d-u-v.org
SUMMARY:Ultra Trail Gaspesia 100 Km
DESCRIPTION: Ultra Trail Gaspesia 100 Km\n
  \n
  
DTSTART:20190615T000000
DTEND:00000000T235900
LOCATION:Perce, QC\, CAN
URL:https://gaspesia.org/ultra-trail/
CATEGORIES:Ultramarathon
CONTACT:
CLASS:PUBLIC
PRIORITY:5
TRANSP:OPAQUE
END:VEVENT
END:VCALENDAR
