BEGIN:VCALENDAR
PRODID:-//http://statistik.d-u-v.org//PHP ultracalendar//EN
VERSION:2.0
METHOD:PUBLISH
BEGIN:VEVENT
DTSTAMP:20260421T190139
CREATED:20181227T091501
UID:1776798099.0.61573000-54107@statistik.d-u-v.org
SUMMARY:Ruco Ultra Trail (RUT) 100 kms
DESCRIPTION: Ruco Ultra Trail (RUT) 100 kms\n
  \n
  
DTSTART:20180804T000000
DTEND:20180805T235900
LOCATION:Quito\, ECU
URL:https://www.rucoultra.com/
CATEGORIES:Ultramarathon
CONTACT:
CLASS:PUBLIC
PRIORITY:5
TRANSP:OPAQUE
END:VEVENT
END:VCALENDAR
