BEGIN:VCALENDAR
PRODID:-//http://statistik.d-u-v.org//PHP ultracalendar//EN
VERSION:2.0
METHOD:PUBLISH
BEGIN:VEVENT
DTSTAMP:20260422T175652
CREATED:20181224T054736
UID:1776880612.0.48742400-54041@statistik.d-u-v.org
SUMMARY:Pterodactylus Ultra Run
DESCRIPTION: Pterodactylus Ultra Run\n
  \n
  
DTSTART:20181104T060000
DTEND:00000000T235900
LOCATION:Nantou City\, TPE
URL:https://www.ibodygo.com.tw/EventTopic.aspx?n=717
CATEGORIES:Ultramarathon
CONTACT:
CLASS:PUBLIC
PRIORITY:5
TRANSP:OPAQUE
END:VEVENT
END:VCALENDAR
