BEGIN:VCALENDAR
PRODID:-//http://statistik.d-u-v.org//PHP ultracalendar//EN
VERSION:2.0
METHOD:PUBLISH
BEGIN:VEVENT
DTSTAMP:20260419T192616
CREATED:20181219T170626
UID:1776626776.0.87023200-53954@statistik.d-u-v.org
SUMMARY:Mason District Running Festival
DESCRIPTION: Mason District Running Festival\n
  \n
  
DTSTART:20170923T080000
DTEND:00000000T235900
LOCATION:Annandale, VA\, USA
URL:https://runsignup.com/Race/VA/Annandale/MasonDistrictRunningFestival
CATEGORIES:Ultramarathon
CONTACT:
CLASS:PUBLIC
PRIORITY:5
TRANSP:OPAQUE
END:VEVENT
END:VCALENDAR
