BEGIN:VCALENDAR
PRODID:-//http://statistik.d-u-v.org//PHP ultracalendar//EN
VERSION:2.0
METHOD:PUBLISH
BEGIN:VEVENT
DTSTAMP:20260420T194755
CREATED:20181219T132140
UID:1776714475.0.79347200-53951@statistik.d-u-v.org
SUMMARY:Dogwood 12 Hour Run
DESCRIPTION: Dogwood 12 Hour Run\n
  \n
  dpulskamp[at]hotmail.com
DTSTART:20190330T000000
DTEND:00000000T235900
LOCATION:Green Bay, VA\, USA
URL:http://virginiaadventures.net/dogwood-ultra-marathons/
CATEGORIES:Ultramarathon
CONTACT:
CLASS:PUBLIC
PRIORITY:5
TRANSP:OPAQUE
END:VEVENT
END:VCALENDAR
