BEGIN:VCALENDAR
PRODID:-//http://statistik.d-u-v.org//PHP ultracalendar//EN
VERSION:2.0
METHOD:PUBLISH
BEGIN:VEVENT
DTSTAMP:20260423T023803
CREATED:20091117T190832
UID:1776911883.0.77807200-5381@statistik.d-u-v.org
SUMMARY:50 km Marathon Mnisek pod Brdy
DESCRIPTION: 50 km Marathon Mnisek pod Brdy\n
  Josef Krejsa\n
  europacup[at]credo-elektro.com
DTSTART:20100417T080000
DTEND:00000000T235900
LOCATION:Mnisek pod Brdy\, CZE
URL:http://www.credo-elektro.com/index.php?page=sport
CATEGORIES:Ultramarathon
CONTACT:Josef Krejsa
CLASS:PUBLIC
PRIORITY:5
TRANSP:OPAQUE
END:VEVENT
END:VCALENDAR
