BEGIN:VCALENDAR
PRODID:-//http://statistik.d-u-v.org//PHP ultracalendar//EN
VERSION:2.0
METHOD:PUBLISH
BEGIN:VEVENT
DTSTAMP:20260423T043505
CREATED:20181211T190125
UID:1776918905.0.43254000-53784@statistik.d-u-v.org
SUMMARY:12 Hours of the Northeast Kingdom
DESCRIPTION: 12 Hours of the Northeast Kingdom\n
  \n
  rd[at]catamountultra.com
DTSTART:20190914T120000
DTEND:00000000T235900
LOCATION:East Charleston, VT\, USA
URL:https://www.ironwoodadventureworks.com/24hrs-nek
CATEGORIES:Ultramarathon
CONTACT:
CLASS:PUBLIC
PRIORITY:5
TRANSP:OPAQUE
END:VEVENT
END:VCALENDAR
