BEGIN:VCALENDAR
PRODID:-//http://statistik.d-u-v.org//PHP ultracalendar//EN
VERSION:2.0
METHOD:PUBLISH
BEGIN:VEVENT
DTSTAMP:20260423T011130
CREATED:20181206T230004
UID:1776906690.0.17676200-53633@statistik.d-u-v.org
SUMMARY:Hermann Nightrun Triple (Teutoburger Wald)
DESCRIPTION: Hermann Nightrun Triple (Teutoburger Wald)\n
  Jan-Olof Wadehn\n
  info[at]hermann-nighhtrun.de
DTSTART:20181124T170000
DTEND:00000000T235900
LOCATION:Bielefeld\, GER
URL:http://www.hermann-nightrun.de
CATEGORIES:Ultramarathon
CONTACT:Jan-Olof Wadehn
CLASS:PUBLIC
PRIORITY:5
TRANSP:OPAQUE
END:VEVENT
END:VCALENDAR
