BEGIN:VCALENDAR
PRODID:-//http://statistik.d-u-v.org//PHP ultracalendar//EN
VERSION:2.0
METHOD:PUBLISH
BEGIN:VEVENT
DTSTAMP:20260420T024528
CREATED:20181204T105235
UID:1776653128.0.02686700-53519@statistik.d-u-v.org
SUMMARY:Tot Dret
DESCRIPTION: Tot Dret\n
  Valle d'Aosta Trailers SSDrl\n
  info[at]tordesgeants.it
DTSTART:20190910T210000
DTEND:20190912T170000
LOCATION:Gressoney-Saint-Jean\, ITA
URL:http://www.tordesgeants.it/
CATEGORIES:Ultramarathon
CONTACT:Valle d'Aosta Trailers SSDrl
CLASS:PUBLIC
PRIORITY:5
TRANSP:OPAQUE
END:VEVENT
END:VCALENDAR
