BEGIN:VCALENDAR
PRODID:-//http://statistik.d-u-v.org//PHP ultracalendar//EN
VERSION:2.0
METHOD:PUBLISH
BEGIN:VEVENT
DTSTAMP:20260423T093825
CREATED:20181204T072712
UID:1776937105.0.17924500-53493@statistik.d-u-v.org
SUMMARY:Slow living Ultra Run
DESCRIPTION: Slow living Ultra Run\n
  \n
  kerming.lin[at]gmail.com
DTSTART:20190217T060000
DTEND:00000000T235900
LOCATION:Sanyi Township\, TPE
URL:https://www.beclass.com/rid=223ef485b6ae09528958
CATEGORIES:Ultramarathon
CONTACT:
CLASS:PUBLIC
PRIORITY:5
TRANSP:OPAQUE
END:VEVENT
END:VCALENDAR
