BEGIN:VCALENDAR
PRODID:-//http://statistik.d-u-v.org//PHP ultracalendar//EN
VERSION:2.0
METHOD:PUBLISH
BEGIN:VEVENT
DTSTAMP:20260423T020202
CREATED:20181203T212809
UID:1776909722.0.73433500-53445@statistik.d-u-v.org
SUMMARY:Summer Green Man Ultra 45 Miles
DESCRIPTION: Summer Green Man Ultra 45 Miles\n
  Steve Worrallo\n
  info[at]ultrarunningltd.co.uk
DTSTART:20190824T080000
DTEND:00000000T235900
LOCATION:Bristol\, GBR
URL:http://www.ultrarunningltd.co.uk/green-man-ultra.html
CATEGORIES:Ultramarathon
CONTACT:Steve Worrallo
CLASS:PUBLIC
PRIORITY:5
TRANSP:OPAQUE
END:VEVENT
END:VCALENDAR
